BEGIN:VCALENDAR
VERSION:2.0
METHOD:PUBLISH
PRODID:-//Agenda.ad//NONSGML v1.0//EN
BEGIN:VEVENT
CLASS:PUBLIC
UID:ac1eb663005d987b2acd61d10a74c010@agenda.ad
DTSTAMP:20260422T181801Z
DTSTART:20260530T220000Z
DTEND:20260530T220000Z
SUMMARY:<span>Cl&agrave;ssicAnd 2026.&nbsp;<span>Combattimento &ndash; Claudio Monteverdi</span></span>
DESCRIPTION:\n\nMés informació\nhttps://www.agenda.ad/activitat/andorr
 a-la-vella/musica/classicand-2026 combattimento-claudio-mon
 teverdi\n
LOCATION:Parc Central
SEQUENCE:0
TRANSP:OPAQUE
X-ALT-DESC;FMTTYPE=text/html:<!DOCTYPE HTML PUBLIC "-//W3C//DTD HTML 3.2//EN"><HTML><HEAD
 ><TITLE></TITLE></HEAD><BODY><FONT FACE="Arial" SIZE=2><br/>
 <br/><b>Més informació</b><br/><a href="https://www.agenda
 .ad/activitat/andorra-la-vella/musica/classicand-2026 comba
 ttimento-claudio-monteverdi">https://www.agenda.ad/activitat
 /andorra-la-vella/musica/classicand-2026 combattimento-clau
 dio-monteverdi</a><br/></FONT></BODY></HTML>
END:VEVENT
END:VCALENDAR